BEGIN:VCALENDAR
VERSION:2.0
PRODID:icalendar-ruby
CALSCALE:GREGORIAN
METHOD:PUBLISH
BEGIN:VEVENT
DTSTAMP:20260425T172259Z
UID:30d5cda6-866b-4cbe-b787-d29e0b86a591
DTSTART:20260313T170000
DTEND:20260315T210000
DESCRIPTION:<p><span style="color: rgb(3\, 3\, 3)\;">The South African Inte
 rnational Tattoo Convention is a three-day event that hosts over 120 of th
 e world's best tattooers from over 20 countries\, giving you the chance to
  get tattooed by expert local and international artists specialising in a 
 large variety of tattoo styles. This event is held annually in Cape Town. 
 The convention is a heartfelt tattooer-owned and operated event. Each year
  we consider it a great honour to gather an amazing group of artists under
  one roof. </span></p><p><br></p><p><span style="color: rgb(3\, 3\, 3)\;"
 >We host over 8 bands for the weekend\, fun and exciting activations and a
 lso a premium selection of local vendors in our marketplace and we have a 
 Beer Garden with a full </span><span style="color: rgb(3\, 3\, 3)\;">licen
 sed</span><span style="color: rgb(3\, 3\, 3)\;"> bar</span></p><p><br></p>
 <p><strong style="color: rgb(3\, 3\, 3)\;">Friday: </strong><strong>17h00
  - 22h00</strong></p><p><strong>Saturday: 10h00 - 22h00</strong></p><p><st
 rong>Sunday: 10h00 - 21h00</strong></p><p><br></p>
LOCATION:Fritz Sonnenberg Rd\, Green Point\, Cape Town\, 8051
SUMMARY:The South African Intl. Tattoo Convention 2026
URL;VALUE=URI:https://satattoocon.howler.co.za/2026
END:VEVENT
END:VCALENDAR
